BEGIN:VCALENDAR
VERSION:2.0
PRODID:https://github.com/derhansen/sf_event_mgt
METHOD:PUBLISH
BEGIN:VEVENT
UID:350-138@euerbach.de
CLASS: PUBLIC
SUMMARY:Kirchweih in Sömmersdorf
DESCRIPTION:
DTSTAMP:20250108T140559Z
DTSTART:20251023T220000Z
DTEND:20251026T230000Z
END:VEVENT
END:VCALENDAR
