BEGIN:VCALENDAR
VERSION:2.0
PRODID:https://github.com/derhansen/sf_event_mgt
METHOD:PUBLISH
BEGIN:VEVENT
UID:182-138@euerbach.de
CLASS: PUBLIC
SUMMARY:Kirchweih in Euerbach
DESCRIPTION:
LOCATION:Schäferswiese Euerbach
DTSTAMP:20240425T125605Z
DTSTART:20241004T220000Z
DTEND:20241006T220000Z
END:VEVENT
END:VCALENDAR
