BEGIN:VCALENDAR
VERSION:2.0
PRODID:https://github.com/derhansen/sf_event_mgt
METHOD:PUBLISH
BEGIN:VEVENT
UID:439-138@euerbach.de
CLASS: PUBLIC
SUMMARY:Kindergartenfest in Euerbach (Euerbach)
DESCRIPTION:
LOCATION:Schäferswiese Euerbach
DTSTAMP:20251125T122442Z
DTSTART:20260621T113000Z
DTEND:20260621T170000Z
END:VEVENT
END:VCALENDAR
