BEGIN:VCALENDAR
VERSION:2.0
PRODID:https://github.com/derhansen/sf_event_mgt
METHOD:PUBLISH
BEGIN:VEVENT
UID:455-138@euerbach.de
CLASS: PUBLIC
SUMMARY:Kindergartenfest des Sankt Johannesverein Sömmersdorf (Sömmersdorf)
DESCRIPTION:
DTSTAMP:20251125T122442Z
DTSTART:20260704T120000Z
DTEND:20260704T180000Z
END:VEVENT
END:VCALENDAR
