BEGIN:VCALENDAR
VERSION:2.0
PRODID:https://github.com/derhansen/sf_event_mgt
METHOD:PUBLISH
BEGIN:VEVENT
UID:265-138@euerbach.de
CLASS: PUBLIC
SUMMARY:Kinderfasching des TSV Obbach (Obbach)
DESCRIPTION:
LOCATION:TSV Sportheim Obbach
DTSTAMP:20250108T140559Z
DTSTART:20250223T130700Z
DTEND:20250223T162400Z
END:VEVENT
END:VCALENDAR
