BEGIN:VCALENDAR
VERSION:2.0
PRODID:https://github.com/derhansen/sf_event_mgt
METHOD:PUBLISH
BEGIN:VEVENT
UID:324-138@euerbach.de
CLASS: PUBLIC
SUMMARY:Kathreintanz, Heimat- und Trachtenverein e.V. Euerbach (Niederwerrn
 )
DESCRIPTION:
LOCATION:Hugo-v.-Trimberghalle Niederwerrn
DTSTAMP:20250108T140559Z
DTSTART:20251129T183000Z
DTEND:20251129T203000Z
END:VEVENT
END:VCALENDAR
