BEGIN:VCALENDAR
VERSION:2.0
PRODID:https://github.com/derhansen/sf_event_mgt
METHOD:PUBLISH
BEGIN:VEVENT
UID:106-138@euerbach.de
CLASS: PUBLIC
SUMMARY:Katheintanz Fränk. Rundtänze (Euerbach)
DESCRIPTION:
LOCATION:Hugo-v.-Trimberghalle Niederwerrn
DTSTAMP:20240425T125605Z
DTSTART:20241130T183000Z
END:VEVENT
END:VCALENDAR
