BEGIN:VCALENDAR
VERSION:2.0
PRODID:https://github.com/derhansen/sf_event_mgt
METHOD:PUBLISH
BEGIN:VEVENT
UID:503-138@euerbach.de
CLASS: PUBLIC
SUMMARY:Jubiläumsfest der Öko-Modellregion Oberes Werntal (Obbach)
DESCRIPTION:
DTSTAMP:20251125T122442Z
DTSTART:20260508T220000Z
END:VEVENT
END:VCALENDAR
