BEGIN:VCALENDAR
VERSION:2.0
PRODID:https://github.com/derhansen/sf_event_mgt
METHOD:PUBLISH
BEGIN:VEVENT
UID:371-138@euerbach.de
CLASS: PUBLIC
SUMMARY:Johannisfeuer der Feuerwehr Sömmersdorf (Sömmersdorf)
DESCRIPTION:
DTSTAMP:20251125T122442Z
DTSTART:20260626T170000Z
DTEND:20260626T200000Z
END:VEVENT
END:VCALENDAR
