BEGIN:VCALENDAR
VERSION:2.0
PRODID:https://github.com/derhansen/sf_event_mgt
METHOD:PUBLISH
BEGIN:VEVENT
UID:283-138@euerbach.de
CLASS: PUBLIC
SUMMARY:Jericho-Konzert
DESCRIPTION:
DTSTAMP:20250108T140559Z
DTSTART:20250524T173000Z
END:VEVENT
END:VCALENDAR
