BEGIN:VCALENDAR
VERSION:2.0
PRODID:https://github.com/derhansen/sf_event_mgt
METHOD:PUBLISH
BEGIN:VEVENT
UID:180-138@euerbach.de
CLASS: PUBLIC
SUMMARY:Jahreshauptversammlung mit Sommerfest (Euerbach)
DESCRIPTION:
LOCATION:Kath. Pfarrheim Euerbach
DTSTAMP:20240425T125605Z
DTSTART:20240803T160000Z
END:VEVENT
END:VCALENDAR
