BEGIN:VCALENDAR
VERSION:2.0
PRODID:https://github.com/derhansen/sf_event_mgt
METHOD:PUBLISH
BEGIN:VEVENT
UID:433-138@euerbach.de
CLASS: PUBLIC
SUMMARY:Jahreshauptversammlung mit Neuwahlen der Siedlergemeinschaft Euerba
 ch (Euerbach)
DESCRIPTION:
LOCATION:VfL Sportheim Euerbach
DTSTAMP:20251125T122442Z
DTSTART:20260320T183000Z
DTEND:20260320T203000Z
END:VEVENT
END:VCALENDAR
