BEGIN:VCALENDAR
VERSION:2.0
PRODID:https://github.com/derhansen/sf_event_mgt
METHOD:PUBLISH
BEGIN:VEVENT
UID:498-138@euerbach.de
CLASS: PUBLIC
SUMMARY:Jahreshauptversammlung Lesezeichen e.V. Euerbach (Euerbach)
DESCRIPTION:
DTSTAMP:20251125T122442Z
DTSTART:20260226T180000Z
DTEND:20260226T200000Z
END:VEVENT
END:VCALENDAR
