BEGIN:VCALENDAR
VERSION:2.0
PRODID:https://github.com/derhansen/sf_event_mgt
METHOD:PUBLISH
BEGIN:VEVENT
UID:266-138@euerbach.de
CLASS: PUBLIC
SUMMARY:Jahreshauptversammlung des TSV Obbach (Obbach)
DESCRIPTION:
LOCATION:TSV Sportheim Obbach
DTSTAMP:20250108T140559Z
DTSTART:20250315T170000Z
DTEND:20250315T200000Z
END:VEVENT
END:VCALENDAR
