BEGIN:VCALENDAR
VERSION:2.0
PRODID:https://github.com/derhansen/sf_event_mgt
METHOD:PUBLISH
BEGIN:VEVENT
UID:422-138@euerbach.de
CLASS: PUBLIC
SUMMARY:Jahreshauptversammlung des SV Sömmersdorf (Sömmersdorf)
DESCRIPTION:
LOCATION:Waldschenke Sömmersdorf
DTSTAMP:20251125T122442Z
DTSTART:20260125T180000Z
DTEND:20260125T203000Z
END:VEVENT
END:VCALENDAR
