BEGIN:VCALENDAR
VERSION:2.0
PRODID:https://github.com/derhansen/sf_event_mgt
METHOD:PUBLISH
BEGIN:VEVENT
UID:335-138@euerbach.de
CLASS: PUBLIC
SUMMARY:Jahreshauptversammlung des St. Johannesverein Sömmersdorf (Sömmersd
 orf)
DESCRIPTION:
DTSTAMP:20250108T140559Z
DTSTART:20250330T173000Z
END:VEVENT
END:VCALENDAR
