BEGIN:VCALENDAR
VERSION:2.0
PRODID:https://github.com/derhansen/sf_event_mgt
METHOD:PUBLISH
BEGIN:VEVENT
UID:454-138@euerbach.de
CLASS: PUBLIC
SUMMARY:Jahreshauptversammlung des Sankt Johannesverein Sömmersdorf (Sömmer
 sdorf)
DESCRIPTION:
DTSTAMP:20251125T122442Z
DTSTART:20260118T183000Z
DTEND:20260118T203000Z
END:VEVENT
END:VCALENDAR
