BEGIN:VCALENDAR
VERSION:2.0
PRODID:https://github.com/derhansen/sf_event_mgt
METHOD:PUBLISH
BEGIN:VEVENT
UID:414-138@euerbach.de
CLASS: PUBLIC
SUMMARY:Jahreshauptversammlung des Obst- und Gartenbauvereins Euerbach (Eue
 rbach)
DESCRIPTION:
LOCATION:VfL Sportheim Euerbach
DTSTAMP:20251125T122442Z
DTSTART:20260228T183000Z
DTEND:20260228T203000Z
END:VEVENT
END:VCALENDAR
