BEGIN:VCALENDAR
VERSION:2.0
PRODID:https://github.com/derhansen/sf_event_mgt
METHOD:PUBLISH
BEGIN:VEVENT
UID:491-138@euerbach.de
CLASS: PUBLIC
SUMMARY:Jahreshauptversammlung des Heimat- und Trachtenverein Euerbach (Eue
 rbach)
DESCRIPTION:
LOCATION:VfL Sportheim Euerbach
DTSTAMP:20251125T122442Z
DTSTART:20260307T183000Z
DTEND:20260307T210000Z
END:VEVENT
END:VCALENDAR
