BEGIN:VCALENDAR
VERSION:2.0
PRODID:https://github.com/derhansen/sf_event_mgt
METHOD:PUBLISH
BEGIN:VEVENT
UID:476-138@euerbach.de
CLASS: PUBLIC
SUMMARY:Jahreshauptversammlung der Jagdgenossenschaft und Waldkörperschaft 
 Obbach (Obbach)
DESCRIPTION:
LOCATION:TSV Sportheim Obbach
DTSTAMP:20251125T122442Z
DTSTART:20260221T180000Z
DTEND:20260221T200000Z
END:VEVENT
END:VCALENDAR
