BEGIN:VCALENDAR
VERSION:2.0
PRODID:https://github.com/derhansen/sf_event_mgt
METHOD:PUBLISH
BEGIN:VEVENT
UID:445-138@euerbach.de
CLASS: PUBLIC
SUMMARY:Jahreshauptversammlung der Heimatkapelle Sömmersdorf (Sömmersdorf)
DESCRIPTION:
DTSTAMP:20251125T122442Z
DTSTART:20260320T180000Z
DTEND:20260320T200000Z
END:VEVENT
END:VCALENDAR
