BEGIN:VCALENDAR
VERSION:2.0
PRODID:https://github.com/derhansen/sf_event_mgt
METHOD:PUBLISH
BEGIN:VEVENT
UID:275-138@euerbach.de
CLASS: PUBLIC
SUMMARY:Jahreshauptversammlung der Heimatkapelle Sömmersdorf (Sömmersdorf)
DESCRIPTION:
DTSTAMP:20250108T140559Z
DTSTART:20250314T183000Z
END:VEVENT
END:VCALENDAR
