BEGIN:VCALENDAR
VERSION:2.0
PRODID:https://github.com/derhansen/sf_event_mgt
METHOD:PUBLISH
BEGIN:VEVENT
UID:367-138@euerbach.de
CLASS: PUBLIC
SUMMARY:Jahreshauptversammlung der Feuerwehr Sömmersdorf (Sömmersdorf)
DESCRIPTION:
LOCATION:Feuerwehrhaus Sömmersdorf
DTSTAMP:20251125T122442Z
DTSTART:20260131T183000Z
DTEND:20260131T210000Z
END:VEVENT
END:VCALENDAR
