BEGIN:VCALENDAR
VERSION:2.0
PRODID:https://github.com/derhansen/sf_event_mgt
METHOD:PUBLISH
BEGIN:VEVENT
UID:401-138@euerbach.de
CLASS: PUBLIC
SUMMARY:Jahreshauptversammlung der Feuerwehr Euerbach (Euerbach)
DESCRIPTION:
LOCATION:VfL Sportheim Euerbach
DTSTAMP:20251125T122442Z
DTSTART:20260110T180000Z
DTEND:20260110T200000Z
END:VEVENT
END:VCALENDAR
