BEGIN:VCALENDAR
VERSION:2.0
PRODID:https://github.com/derhansen/sf_event_mgt
METHOD:PUBLISH
BEGIN:VEVENT
UID:230-138@euerbach.de
CLASS: PUBLIC
SUMMARY:Jahreshauptversammlung der Feuerwehr Euerbach (Euerbach)
DESCRIPTION:
LOCATION:VfL Sportheim Euerbach
DTSTAMP:20250108T140559Z
DTSTART:20250215T170000Z
DTEND:20250215T190000Z
END:VEVENT
END:VCALENDAR
