BEGIN:VCALENDAR
VERSION:2.0
PRODID:https://github.com/derhansen/sf_event_mgt
METHOD:PUBLISH
BEGIN:VEVENT
UID:464-138@euerbach.de
CLASS: PUBLIC
SUMMARY:Jahreshauptversammlung der Erwicher e.V. (Euerbach)
DESCRIPTION:
DTSTAMP:20251125T122442Z
DTSTART:20260131T160000Z
DTEND:20260131T180000Z
END:VEVENT
END:VCALENDAR
