BEGIN:VCALENDAR
VERSION:2.0
PRODID:https://github.com/derhansen/sf_event_mgt
METHOD:PUBLISH
BEGIN:VEVENT
UID:453-138@euerbach.de
CLASS: PUBLIC
SUMMARY:Jahreshauptversammlung der Eigenheimer Sömmersdorf (Sömmersdorf)
DESCRIPTION:
LOCATION:Feuerwehrhaus Sömmersdorf
DTSTAMP:20251125T122442Z
DTSTART:20260206T180000Z
DTEND:20260206T200000Z
END:VEVENT
END:VCALENDAR
