BEGIN:VCALENDAR
VERSION:2.0
PRODID:https://github.com/derhansen/sf_event_mgt
METHOD:PUBLISH
BEGIN:VEVENT
UID:411-138@euerbach.de
CLASS: PUBLIC
SUMMARY:Jahreshauptversammlung der Eigenheimer Obbach (Obbach)
DESCRIPTION:
LOCATION:TSV Sportheim Obbach
DTSTAMP:20251125T122442Z
DTSTART:20260117T150000Z
DTEND:20260117T170000Z
END:VEVENT
END:VCALENDAR
