BEGIN:VCALENDAR
VERSION:2.0
PRODID:https://github.com/derhansen/sf_event_mgt
METHOD:PUBLISH
BEGIN:VEVENT
UID:239-138@euerbach.de
CLASS: PUBLIC
SUMMARY:Jahreshauptversammlung der Eigenheimer Obbach (Obbach)
DESCRIPTION:
LOCATION:TSV Sportheim Obbach
DTSTAMP:20250108T140559Z
DTSTART:20250111T150000Z
DTEND:20250111T170000Z
END:VEVENT
END:VCALENDAR
