BEGIN:VCALENDAR
VERSION:2.0
PRODID:https://github.com/derhansen/sf_event_mgt
METHOD:PUBLISH
BEGIN:VEVENT
UID:492-138@euerbach.de
CLASS: PUBLIC
SUMMARY:Jahreshauptversammlung der Dino's Masshoppers Euerbach (Euerbach)
DESCRIPTION:
LOCATION:VfL Sportheim Euerbach
DTSTAMP:20251125T122442Z
DTSTART:20260418T173000Z
DTEND:20260418T193000Z
END:VEVENT
END:VCALENDAR
