BEGIN:VCALENDAR
VERSION:2.0
PRODID:https://github.com/derhansen/sf_event_mgt
METHOD:PUBLISH
BEGIN:VEVENT
UID:286-138@euerbach.de
CLASS: PUBLIC
SUMMARY:Jahreshauptversammlung - Unser Obbach e.V. (Obbach)
DESCRIPTION:
LOCATION:Obbacher Rathaus
DTSTAMP:20250108T140559Z
DTSTART:20250221T173000Z
DTEND:20250221T193000Z
END:VEVENT
END:VCALENDAR
