BEGIN:VCALENDAR
VERSION:2.0
PRODID:https://github.com/derhansen/sf_event_mgt
METHOD:PUBLISH
BEGIN:VEVENT
UID:327-138@euerbach.de
CLASS: PUBLIC
SUMMARY:Jahreshauptversammlung & Ehrenabend der fränk. Passionspiele Sömmer
 sdorf  (Sömmersdorf)
DESCRIPTION:
DTSTAMP:20250108T140559Z
DTSTART:20250201T183000Z
END:VEVENT
END:VCALENDAR
