BEGIN:VCALENDAR
VERSION:2.0
PRODID:https://github.com/derhansen/sf_event_mgt
METHOD:PUBLISH
BEGIN:VEVENT
UID:292-138@euerbach.de
CLASS: PUBLIC
SUMMARY:Jahreshauptversammlung, Erwicher e.V. (Euerbach)
DESCRIPTION:
DTSTAMP:20250108T140559Z
DTSTART:20250111T173000Z
DTEND:20250111T193000Z
END:VEVENT
END:VCALENDAR
