BEGIN:VCALENDAR
VERSION:2.0
PRODID:https://github.com/derhansen/sf_event_mgt
METHOD:PUBLISH
BEGIN:VEVENT
UID:67-138@euerbach.de
CLASS: PUBLIC
SUMMARY:Im Tal der Kelten - Die Kompakte (Obbach)
DESCRIPTION:
LOCATION:Reichthalscheune
DTSTAMP:20240425T125605Z
DTSTART:20241110T123000Z
DTEND:20241110T143000Z
END:VEVENT
END:VCALENDAR
