BEGIN:VCALENDAR
VERSION:2.0
PRODID:https://github.com/derhansen/sf_event_mgt
METHOD:PUBLISH
BEGIN:VEVENT
UID:500-138@euerbach.de
CLASS: PUBLIC
SUMMARY:Im Tal der Kelten - Die Kompakte (Obbach)
DESCRIPTION:
DTSTAMP:20251125T122442Z
DTSTART:20260322T130000Z
DTEND:20260322T150000Z
END:VEVENT
END:VCALENDAR
