BEGIN:VCALENDAR
VERSION:2.0
PRODID:https://github.com/derhansen/sf_event_mgt
METHOD:PUBLISH
BEGIN:VEVENT
UID:340-138@euerbach.de
CLASS: PUBLIC
SUMMARY:Im Tal der Kelten - Die Kompakte (Obbach)
DESCRIPTION:
DTSTAMP:20250108T140559Z
DTSTART:20250518T120000Z
DTEND:20250518T140000Z
END:VEVENT
END:VCALENDAR
