BEGIN:VCALENDAR
VERSION:2.0
PRODID:https://github.com/derhansen/sf_event_mgt
METHOD:PUBLISH
BEGIN:VEVENT
UID:508-138@euerbach.de
CLASS: PUBLIC
SUMMARY:Im Keltenwald (für Kinder von 7 -11 Jahren und interessierte Eltern
 /  Großeltern …) (Obbach)
DESCRIPTION:
DTSTAMP:20251125T122442Z
DTSTART:20260807T140000Z
DTEND:20260807T160000Z
END:VEVENT
END:VCALENDAR
