BEGIN:VCALENDAR
VERSION:2.0
PRODID:https://github.com/derhansen/sf_event_mgt
METHOD:PUBLISH
BEGIN:VEVENT
UID:66-138@euerbach.de
CLASS: PUBLIC
SUMMARY:Im Keltenwald (Für Kinder von 7 - 11 Jahre und interessierte Eltern
 /Großeltern/Tanten/Onkels) (Obbach)
DESCRIPTION:
LOCATION:Reichthalscheune
DTSTAMP:20240425T125605Z
DTSTART:20240806T130000Z
DTEND:20240806T150000Z
END:VEVENT
END:VCALENDAR
