BEGIN:VCALENDAR
VERSION:2.0
PRODID:https://github.com/derhansen/sf_event_mgt
METHOD:PUBLISH
BEGIN:VEVENT
UID:257-138@euerbach.de
CLASS: PUBLIC
SUMMARY:Hauptversammlung der Siedlergemeinschaft Euerbach (Euerbach)
DESCRIPTION:
LOCATION:VfL Sportheim Euerbach
DTSTAMP:20250108T140559Z
DTSTART:20250314T183000Z
DTEND:20250314T203000Z
END:VEVENT
END:VCALENDAR
