BEGIN:VCALENDAR
VERSION:2.0
PRODID:https://github.com/derhansen/sf_event_mgt
METHOD:PUBLISH
BEGIN:VEVENT
UID:501-138@euerbach.de
CLASS: PUBLIC
SUMMARY:Grenzgang der Flurbereinigung Euerbach (Euerbach)
DESCRIPTION:
DTSTAMP:20251125T122442Z
DTSTART:20260410T220000Z
DTEND:20260410T220000Z
END:VEVENT
END:VCALENDAR
