BEGIN:VCALENDAR
VERSION:2.0
PRODID:https://github.com/derhansen/sf_event_mgt
METHOD:PUBLISH
BEGIN:VEVENT
UID:288-138@euerbach.de
CLASS: PUBLIC
SUMMARY:Gottesdienst zum Ewigkeitssonntag mit Totengedenken (Euerbach)
DESCRIPTION:
LOCATION:Evang. Kirche Euerbach
DTSTAMP:20250108T140559Z
DTSTART:20251122T230000Z
DTEND:20251122T230000Z
END:VEVENT
END:VCALENDAR
