BEGIN:VCALENDAR
VERSION:2.0
PRODID:https://github.com/derhansen/sf_event_mgt
METHOD:PUBLISH
BEGIN:VEVENT
UID:146-138@euerbach.de
CLASS: PUBLIC
SUMMARY:Gottesdienst zum Ewigkeitssonntag mit Totengedenken (Euerbach)
DESCRIPTION:
LOCATION:Evang. Kirche Euerbach
DTSTAMP:20240425T125605Z
DTSTART:20241124T100000Z
END:VEVENT
END:VCALENDAR
