BEGIN:VCALENDAR
VERSION:2.0
PRODID:https://github.com/derhansen/sf_event_mgt
METHOD:PUBLISH
BEGIN:VEVENT
UID:122-138@euerbach.de
CLASS: PUBLIC
SUMMARY:Gottesdienst zum Ewigkeitssonntag mit Gedenken an die Verstorbenen 
 (Obbach)
DESCRIPTION:
LOCATION:Evang. Kirche Obbach
DTSTAMP:20240425T125605Z
DTSTART:20241124T180000Z
END:VEVENT
END:VCALENDAR
