BEGIN:VCALENDAR
VERSION:2.0
PRODID:https://github.com/derhansen/sf_event_mgt
METHOD:PUBLISH
BEGIN:VEVENT
UID:47-138@euerbach.de
CLASS: PUBLIC
SUMMARY:Glühweinabend  (Euerbach)
DESCRIPTION:
LOCATION:Feuerwehrhaus Euerbach
DTSTAMP:20240425T125605Z
DTSTART:20241129T160000Z
END:VEVENT
END:VCALENDAR
