BEGIN:VCALENDAR
VERSION:2.0
PRODID:https://github.com/derhansen/sf_event_mgt
METHOD:PUBLISH
BEGIN:VEVENT
UID:42-138@euerbach.de
CLASS: PUBLIC
SUMMARY:Gemeinsamer Seniorenausflug 2024 (Euerbach)
DESCRIPTION:
DTSTAMP:20260318T130639Z
DTSTART:20241008T220000Z
END:VEVENT
END:VCALENDAR
