BEGIN:VCALENDAR
VERSION:2.0
PRODID:https://github.com/derhansen/sf_event_mgt
METHOD:PUBLISH
BEGIN:VEVENT
UID:485-138@euerbach.de
CLASS: PUBLIC
SUMMARY:Gemeinsamer Gottesdienst der evang. Kirchengemeinden Niederwerrn, E
 uerbach, Obbach (Obbach)
DESCRIPTION:
LOCATION:Evang. Kirche Obbach
DTSTAMP:20251125T122442Z
DTSTART:20260514T080000Z
DTEND:20260514T090000Z
END:VEVENT
END:VCALENDAR
