BEGIN:VCALENDAR
VERSION:2.0
PRODID:https://github.com/derhansen/sf_event_mgt
METHOD:PUBLISH
BEGIN:VEVENT
UID:318-138@euerbach.de
CLASS: PUBLIC
SUMMARY:Gemeinsamer Gottesdienst der evang. Kirchengemeinden Niederwerrn, E
 uerbach, Obbach (NEO)  (Obbach)
DESCRIPTION:
LOCATION:Schäferswiese Euerbach
DTSTAMP:20250108T140559Z
DTSTART:20250529T080000Z
DTEND:20250529T090000Z
END:VEVENT
END:VCALENDAR
