BEGIN:VCALENDAR
VERSION:2.0
PRODID:https://github.com/derhansen/sf_event_mgt
METHOD:PUBLISH
BEGIN:VEVENT
UID:396-138@euerbach.de
CLASS: PUBLIC
SUMMARY:Gemeinderatssitzung 05.05.2026 (Euerbach)
DESCRIPTION:
LOCATION:Sporthalle Euerbach
DTSTAMP:20260318T130559Z
DTSTART:20260505T170000Z
DTEND:20260505T193000Z
END:VEVENT
END:VCALENDAR
