BEGIN:VCALENDAR
VERSION:2.0
PRODID:https://github.com/derhansen/sf_event_mgt
METHOD:PUBLISH
BEGIN:VEVENT
UID:395-138@euerbach.de
CLASS: PUBLIC
SUMMARY:Gemeinderatssitzung 08.12.2026 (Euerbach)
DESCRIPTION:
DTSTAMP:20260318T125309Z
DTSTART:20261208T183000Z
DTEND:20261208T203000Z
END:VEVENT
END:VCALENDAR
