BEGIN:VCALENDAR
VERSION:2.0
PRODID:https://github.com/derhansen/sf_event_mgt
METHOD:PUBLISH
BEGIN:VEVENT
UID:387-138@euerbach.de
CLASS: PUBLIC
SUMMARY:Gemeinderatssitzung 21.07.2026 (Euerbach)
DESCRIPTION:
DTSTAMP:20260318T125451Z
DTSTART:20260721T173000Z
DTEND:20260721T193000Z
END:VEVENT
END:VCALENDAR
